BEGIN:VCALENDAR
VERSION:2.0
PRODID:-//jankoralberg - ECPv6.2.0.1//NONSGML v1.0//EN
CALSCALE:GREGORIAN
METHOD:PUBLISH
X-WR-CALNAME:jankoralberg
X-ORIGINAL-URL:https://www.jankoralberg.com
X-WR-CALDESC:Events for jankoralberg
REFRESH-INTERVAL;VALUE=DURATION:PT1H
X-Robots-Tag:noindex
X-PUBLISHED-TTL:PT1H
BEGIN:VTIMEZONE
TZID:Europe/Rome
BEGIN:DAYLIGHT
TZOFFSETFROM:+0100
TZOFFSETTO:+0200
TZNAME:CEST
DTSTART:20170326T010000
END:DAYLIGHT
BEGIN:STANDARD
TZOFFSETFROM:+0200
TZOFFSETTO:+0100
TZNAME:CET
DTSTART:20171029T010000
END:STANDARD
END:VTIMEZONE
BEGIN:VEVENT
DTSTART;TZID=Europe/Rome:20170922T180000
DTEND;TZID=Europe/Rome:20171008T170000
DTSTAMP:20260425T061352
CREATED:20170902T135840Z
LAST-MODIFIED:20170929T083032Z
UID:493-1506103200-1507482000@www.jankoralberg.com
SUMMARY:MVTINA EX METALLO - 2nd Edition
DESCRIPTION:Inaugura\, il 22 settembre alle ore 18:00\, la 2a edizione della mostra d’arte tecnologico – fotografica di Jan Koralberg in collaborazione con Daniele Ferrari. \nOpere d’arte nel metallo dedicate a Modena a 2200 anni dalla sua fondazione\, tra astrattismo\, surrealismo. Un’arte innovativa\, mix tra poesia e tecnologia. \nDal 22 settembre al 8 ottobre al Salotto Culturale Aggazzotti\, Modena – ITALIA – \n  \n \n 
URL:https://www.jankoralberg.com/event/mvtina-ex-metallo-2nd-edition/
END:VEVENT
END:VCALENDAR